BEGIN:VCALENDAR
VERSION:2.0
PRODID:-//Department Of Education//cf196dce-1770-410f-8905-8caf91ae1a53
BEGIN:VTIMEZONE
TZID:Australia/Sydney
TZURL:http://tzurl.org/zoneinfo-outlook/Australia/Sydney
X-LIC-LOCATION:Australia/Sydney
BEGIN:STANDARD
TZOFFSETFROM:+1100
TZOFFSETTO:+1000
TZNAME:AEST
DTSTART:19700405T030000
RRULE:FREQ=YEARLY;BYMONTH=4;BYDAY=1SU
END:STANDARD
BEGIN:DAYLIGHT
TZOFFSETFROM:+1000
TZOFFSETTO:+1100
TZNAME:AEDT
DTSTART:19701004T020000
RRULE:FREQ=YEARLY;BYMONTH=10;BYDAY=1SU
END:DAYLIGHT
END:VTIMEZONE
CALSCALE:GREGORIAN
X-WR-TIMEZONE:Australia/Sydney
BEGIN:VEVENT
DTSTART;TZID=Australia/Sydney:20200226T112037
DTEND;TZID=Australia/Sydney:20200226T130041
DTSTAMP:20200226T000000Z
UID:85eee462-3a1b-4a03-846d-fb9ea9a1ca25
LOCATION:Moss Vale Aquatic Centre  
SUMMARY;LANGUAGE=en-us:Support unit swimming classes
RRULE:FREQ=WEEKLY;INTERVAL=1;UNTIL=20200408;
SEQUENCE:0
DESCRIPTION:Support unit students and staff travelliing to Moss Vale Aquatic Centre for lessons.  Transport via private vehicle - Mr Good
END:VEVENT
TRANSP:TRANSPARENT
END:VCALENDAR
