BEGIN:VCALENDAR
VERSION:2.0
PRODID:-//Department Of Education//82f12a52-681c-4ce8-988b-ea96e486ced7
BEGIN:VTIMEZONE
TZID:Australia/Sydney
TZURL:http://tzurl.org/zoneinfo-outlook/Australia/Sydney
X-LIC-LOCATION:Australia/Sydney
BEGIN:STANDARD
TZOFFSETFROM:+1100
TZOFFSETTO:+1000
TZNAME:AEST
DTSTART:19700405T030000
RRULE:FREQ=YEARLY;BYMONTH=4;BYDAY=1SU
END:STANDARD
BEGIN:DAYLIGHT
TZOFFSETFROM:+1000
TZOFFSETTO:+1100
TZNAME:AEDT
DTSTART:19701004T020000
RRULE:FREQ=YEARLY;BYMONTH=10;BYDAY=1SU
END:DAYLIGHT
END:VTIMEZONE
CALSCALE:GREGORIAN
X-WR-TIMEZONE:Australia/Sydney
BEGIN:VEVENT
DTSTART;TZID=Australia/Sydney:20200303T090021
DTEND;TZID=Australia/Sydney:20200303T110026
DTSTAMP:20200303T000000Z
UID:f5b49d9f-bbe3-44a7-80e1-cdbda3dc53a5
LOCATION:MVHS Upper B Block
SUMMARY;LANGUAGE=en-us:Year 7 immunisations
SEQUENCE:0
DESCRIPTION:NSW Health staff administer free immunisation to students.  All signed notes ust be returned to roll call teachers - Ms Killian
END:VEVENT
TRANSP:TRANSPARENT
END:VCALENDAR
